BEGIN:VCALENDAR
VERSION:2.0
PRODID:-//The River Church - ECPv6.15.20//NONSGML v1.0//EN
CALSCALE:GREGORIAN
METHOD:PUBLISH
X-ORIGINAL-URL:https://riverchurch.com.au
X-WR-CALDESC:Events for The River Church
REFRESH-INTERVAL;VALUE=DURATION:PT1H
X-Robots-Tag:noindex
X-PUBLISHED-TTL:PT1H
BEGIN:VTIMEZONE
TZID:Australia/Brisbane
BEGIN:STANDARD
TZOFFSETFROM:+1000
TZOFFSETTO:+1000
TZNAME:AEST
DTSTART:20250101T000000
END:STANDARD
END:VTIMEZONE
BEGIN:VEVENT
DTSTART;TZID=Australia/Brisbane:20260405T143000
DTEND;TZID=Australia/Brisbane:20260405T203000
DTSTAMP:20260424T025311
CREATED:20260222T080007Z
LAST-MODIFIED:20260322T055208Z
UID:10007348-1775399400-1775421000@riverchurch.com.au
SUMMARY:Easter United
DESCRIPTION:An afternoon filled with laughter\, family\, food trucks\, kids activation space\, a marketplace and live acts on stage\, all leading into a Celebration Service as churches across the Gold Coast unite to share with the community that there is always hope and you’re not alone.
URL:https://riverchurch.com.au/event/easter-united/
LOCATION:Broadwater Parklands\, Marine Parade\, Southport\, Gold Coast\, QLD\, 4215\, Australia
ATTACH;FMTTYPE=image/png:https://riverchurch.com.au/wp-content/uploads/2026/03/650832312_1507659694112984_1374847163788551216_n.png
END:VEVENT
END:VCALENDAR